BEGIN:VCALENDAR
VERSION:2.0
PRODID:-//Plone.org//NONSGML plone.app.event//EN
X-WR-TIMEZONE:Europe/Madrid
BEGIN:VEVENT
SUMMARY:The Picture Show Cineforum: "The thief and the cobbler" (1993)
DTSTART;TZID=Europe/Madrid;VALUE=DATE-TIME:20251128T214500
DTEND;TZID=Europe/Madrid;VALUE=DATE-TIME:20251128T224500
DTSTAMP;VALUE=DATE-TIME:20260421T160630Z
UID:d5a3e3b047f747c7a5cb9ce254c90ed4@www.molletvalles.cat
CATEGORIES:Cine
CREATED;VALUE=DATE-TIME:20250721T081645Z
LAST-MODIFIED;VALUE=DATE-TIME:20251016T120427Z
URL:https://www.molletvalles.cat/es/actualidad/agenda/the-picture-show-cin
 eforum-the-thief-and-the-cobbler-1993
END:VEVENT
BEGIN:VTIMEZONE
TZID:Europe/Madrid
X-LIC-LOCATION:Europe/Madrid
BEGIN:STANDARD
DTSTART;VALUE=DATE-TIME:20251026T020000
TZNAME:CET
TZOFFSETFROM:+0200
TZOFFSETTO:+0100
END:STANDARD
END:VTIMEZONE
END:VCALENDAR
