BEGIN:VCALENDAR
VERSION:2.0
PRODID:-//Plone.org//NONSGML plone.app.event//EN
X-WR-TIMEZONE:Europe/Madrid
BEGIN:VEVENT
SUMMARY:Torneo Ciudad de Mollet de baloncesto en silla de ruedas
DTSTART;VALUE=DATE:20260606
DTEND;VALUE=DATE:20260607
DTSTAMP;VALUE=DATE-TIME:20260425T040256Z
UID:9ef5ccfabf04454fbbc141309dcd9ea9@www.molletvalles.cat
CATEGORIES:Deportes
CREATED;VALUE=DATE-TIME:20260424T075743Z
LAST-MODIFIED;VALUE=DATE-TIME:20260424T084025Z
LOCATION:Pabellón Municipal Plana Lledó
URL:https://www.molletvalles.cat/es/actualidad/agenda/torneo-ciudad-de-mol
 let-de-baloncesto-en-silla-de-ruedas
END:VEVENT
END:VCALENDAR
