BEGIN:VCALENDAR
VERSION:2.0
PRODID:-//Plone.org//NONSGML plone.app.event//EN
X-WR-TIMEZONE:Europe/Madrid
BEGIN:VEVENT
SUMMARY:Torneo de Voley
DTSTART;TZID=Europe/Madrid;VALUE=DATE-TIME:20260508T170000
DTEND;TZID=Europe/Madrid;VALUE=DATE-TIME:20260508T180000
DTSTAMP;VALUE=DATE-TIME:20260425T042053Z
UID:441998dd956c44f3b64e132fa37abfd9@www.molletvalles.cat
CATEGORIES:Deportes
CREATED;VALUE=DATE-TIME:20260424T091246Z
LAST-MODIFIED;VALUE=DATE-TIME:20260424T091325Z
LOCATION:Instituto Mollet
URL:https://www.molletvalles.cat/es/actualidad/agenda/torneo-de-voley-1
END:VEVENT
BEGIN:VTIMEZONE
TZID:Europe/Madrid
X-LIC-LOCATION:Europe/Madrid
BEGIN:DAYLIGHT
DTSTART;VALUE=DATE-TIME:20260329T030000
TZNAME:CEST
TZOFFSETFROM:+0100
TZOFFSETTO:+0200
END:DAYLIGHT
END:VTIMEZONE
END:VCALENDAR
