BEGIN:VCALENDAR
VERSION:2.0
PRODID:-//Plone.org//NONSGML plone.app.event//EN
X-WR-TIMEZONE:Europe/Madrid
BEGIN:VEVENT
SUMMARY:Torneo mini ciudad de Mollet
DTSTART;VALUE=DATE:20260502
DTEND;VALUE=DATE:20260503
DTSTAMP;VALUE=DATE-TIME:20260425T035542Z
UID:80012a65048b4f24a64ee3c34a9643c7@www.molletvalles.cat
CATEGORIES:Deportes
CREATED;VALUE=DATE-TIME:20260424T065839Z
LAST-MODIFIED;VALUE=DATE-TIME:20260424T081616Z
LOCATION:Pabellón Municipal Plana Lledó
URL:https://www.molletvalles.cat/es/actualidad/agenda/torneo-mini-ciudad-d
 e-mollet
END:VEVENT
END:VCALENDAR
