BEGIN:VCALENDAR
VERSION:2.0
PRODID:-//Plone.org//NONSGML plone.app.event//EN
X-WR-TIMEZONE:Europe/Madrid
BEGIN:VEVENT
SUMMARY:Ven a donar sangre al Mercat Vell
DTSTART;VALUE=DATE:20250509
DTEND;VALUE=DATE:20250510
DTSTAMP;VALUE=DATE-TIME:20260421T135741Z
UID:16cf6b965ceb47a0b9b592e083e1af97@www.molletvalles.cat
CATEGORIES:Actos diversos
CREATED;VALUE=DATE-TIME:20250206T120005Z
LAST-MODIFIED;VALUE=DATE-TIME:20250428T094907Z
URL:https://www.molletvalles.cat/es/actualidad/agenda/ven-a-donar-sangre-a
 l-mercat-vell-2
END:VEVENT
END:VCALENDAR
