BEGIN:VCALENDAR
VERSION:2.0
PRODID:-//Plone.org//NONSGML plone.app.event//EN
X-WR-TIMEZONE:Europe/Madrid
BEGIN:VEVENT
SUMMARY:Ven a donar sangre al Mercat Vell
DTSTART;VALUE=DATE:20251107
DTEND;VALUE=DATE:20251108
DTSTAMP;VALUE=DATE-TIME:20260421T135809Z
UID:831afe315db541c58a9317cef263b646@www.molletvalles.cat
CATEGORIES:Actos diversos
CREATED;VALUE=DATE-TIME:20250808T095819Z
LAST-MODIFIED;VALUE=DATE-TIME:20251023T110818Z
URL:https://www.molletvalles.cat/es/actualidad/agenda/ven-a-donar-sangre-a
 l-mercat-vell-7
END:VEVENT
END:VCALENDAR
