BEGIN:VCALENDAR
VERSION:2.0
PRODID:-//Plone.org//NONSGML plone.app.event//EN
X-WR-TIMEZONE:Europe/Madrid
BEGIN:VEVENT
SUMMARY:Ven a donar sangre al Mercat Vell
DTSTART;VALUE=DATE:20260109
DTEND;VALUE=DATE:20260110
DTSTAMP;VALUE=DATE-TIME:20260421T135809Z
UID:edab793d4db4497e87881bb902f422cf@www.molletvalles.cat
CATEGORIES:Actos diversos
CREATED;VALUE=DATE-TIME:20251219T110041Z
LAST-MODIFIED;VALUE=DATE-TIME:20251223T114047Z
URL:https://www.molletvalles.cat/es/actualidad/agenda/ven-a-donar-sangre-a
 l-mercat-vell-9
END:VEVENT
END:VCALENDAR
