BEGIN:VCALENDAR
VERSION:2.0
PRODID:-//Plone.org//NONSGML plone.app.event//EN
X-WR-TIMEZONE:Europe/Madrid
BEGIN:VEVENT
SUMMARY:Verbena de San Juan de la Asociación de Bailes de Salón
DTSTART;TZID=Europe/Madrid;VALUE=DATE-TIME:20230623T230000
DTEND;TZID=Europe/Madrid;VALUE=DATE-TIME:20230623T235500
DTSTAMP;VALUE=DATE-TIME:20260421T160449Z
UID:fd4f4a54b64f463e8a61469e1f46a2df@www.molletvalles.cat
CATEGORIES:Ball
CREATED;VALUE=DATE-TIME:20230614T125448Z
LAST-MODIFIED;VALUE=DATE-TIME:20230619T123518Z
LOCATION:Pista Exterior del pavellón de  Riera Seca
URL:https://www.molletvalles.cat/es/actualidad/agenda/verbena-de-san-juan-
 de-la-asociacion-de-bailes-de-salon
END:VEVENT
BEGIN:VTIMEZONE
TZID:Europe/Madrid
X-LIC-LOCATION:Europe/Madrid
BEGIN:DAYLIGHT
DTSTART;VALUE=DATE-TIME:20230326T030000
TZNAME:CEST
TZOFFSETFROM:+0100
TZOFFSETTO:+0200
END:DAYLIGHT
END:VTIMEZONE
END:VCALENDAR
