BEGIN:VCALENDAR
VERSION:2.0
PRODID:-//Plone.org//NONSGML plone.app.event//EN
X-WR-TIMEZONE:Europe/Madrid
BEGIN:VEVENT
SUMMARY:Verbena del Barrio de Santa Rosa
DTSTART;VALUE=DATE:20240615
DTEND;VALUE=DATE:20240616
DTSTAMP;VALUE=DATE-TIME:20260421T173735Z
UID:60df6d072b3a4143aef72d3af4ecd22c@www.molletvalles.cat
CATEGORIES:Fiestas populares
CREATED;VALUE=DATE-TIME:20240603T131618Z
LAST-MODIFIED;VALUE=DATE-TIME:20240613T081539Z
LOCATION:Calle San Francisco\, entre las calles San José y Santiago Tiffo
 n
URL:https://www.molletvalles.cat/es/actualidad/agenda/verbena-del-barrio-d
 e-santa-rosa
END:VEVENT
END:VCALENDAR
