BEGIN:VCALENDAR
VERSION:2.0
PRODID:-//Plone.org//NONSGML plone.app.event//EN
X-WR-TIMEZONE:Europe/Madrid
BEGIN:VEVENT
SUMMARY:Vermut en vivo
DTSTART;VALUE=DATE:20260516
DTEND;VALUE=DATE:20260517
DTSTAMP;VALUE=DATE-TIME:20260425T035712Z
UID:7888b053630b42f896d4c8010eab65f0@www.molletvalles.cat
CATEGORIES:Cursos y talleres
CREATED;VALUE=DATE-TIME:20260424T112747Z
LAST-MODIFIED;VALUE=DATE-TIME:20260424T113123Z
URL:https://www.molletvalles.cat/es/actualidad/agenda/vermut-en-vivo
END:VEVENT
END:VCALENDAR
