BEGIN:VCALENDAR
VERSION:2.0
PRODID:-//Plone.org//NONSGML plone.app.event//EN
X-WR-TIMEZONE:Europe/Madrid
BEGIN:VEVENT
SUMMARY:Vermut Motero
DTSTART;VALUE=DATE:20240427
DTEND;VALUE=DATE:20240428
DTSTAMP;VALUE=DATE-TIME:20260423T135915Z
UID:3ff9cf72b84f4c02899c9460b21cd339@www.molletvalles.cat
CATEGORIES:Actos diversos
CREATED;VALUE=DATE-TIME:20240417T095505Z
LAST-MODIFIED;VALUE=DATE-TIME:20240417T114154Z
LOCATION:Parque de Can Mulà
URL:https://www.molletvalles.cat/es/actualidad/agenda/vermut-motero
END:VEVENT
END:VCALENDAR
