BEGIN:VCALENDAR
VERSION:2.0
PRODID:-//Plone.org//NONSGML plone.app.event//EN
X-WR-TIMEZONE:Europe/Madrid
BEGIN:VEVENT
SUMMARY:Visita a la Casa del Pintor Abelló y los títeres de la Casa Abel
 ló (taller familiar)
DTSTART;VALUE=DATE:20230331
DTEND;VALUE=DATE:20230403
DTSTAMP;VALUE=DATE-TIME:20260419T162220Z
UID:32e42ffe5e8747b193c41b96834afb5d@www.molletvalles.cat
CATEGORIES:Exposiciones
CREATED;VALUE=DATE-TIME:20230331T111041Z
DESCRIPTION:MITMO 2023
LAST-MODIFIED;VALUE=DATE-TIME:20230331T114043Z
URL:https://www.molletvalles.cat/es/actualidad/agenda/visita-a-la-casa-del
 -pintor-abello-y-los-titeres-de-la-casa-abello-taller-familiar
END:VEVENT
END:VCALENDAR
