BEGIN:VCALENDAR
VERSION:2.0
PRODID:-//Plone.org//NONSGML plone.app.event//EN
X-WR-TIMEZONE:Europe/Madrid
BEGIN:VEVENT
SUMMARY:Visita en clave de género a cargo de Sybila Naranjo
DTSTART;TZID=Europe/Madrid;VALUE=DATE-TIME:20240819T200000
DTEND;TZID=Europe/Madrid;VALUE=DATE-TIME:20240819T210000
DTSTAMP;VALUE=DATE-TIME:20260421T140428Z
UID:012172e952054c0c876c554181294b18@www.molletvalles.cat
CATEGORIES:Exposiciones
CREATED;VALUE=DATE-TIME:20240730T102027Z
DESCRIPTION:FIESTA MAYOR 2024
LAST-MODIFIED;VALUE=DATE-TIME:20240802T090644Z
LOCATION:Casa del Pintor Joan Abelló
URL:https://www.molletvalles.cat/es/actualidad/agenda/visita-en-clave-de-g
 enero-a-cargo-de-sybila-naranjo
END:VEVENT
BEGIN:VTIMEZONE
TZID:Europe/Madrid
X-LIC-LOCATION:Europe/Madrid
BEGIN:DAYLIGHT
DTSTART;VALUE=DATE-TIME:20240331T030000
TZNAME:CEST
TZOFFSETFROM:+0100
TZOFFSETTO:+0200
END:DAYLIGHT
END:VTIMEZONE
END:VCALENDAR
