BEGIN:VCALENDAR
VERSION:2.0
PRODID:-//Plone.org//NONSGML plone.app.event//EN
X-WR-TIMEZONE:Europe/Madrid
BEGIN:VEVENT
SUMMARY:Visita los parques y jardines de Mollet del Vallès: La Rambla Uni
 ó\, el Parque de los Colores\, el Parque de Can Borrell y sus plazas inte
 rnas
DTSTART;VALUE=DATE:20241201
DTEND;VALUE=DATE:20241202
DTSTAMP;VALUE=DATE-TIME:20260419T162008Z
UID:e42a6dad251144f884ff90e0536e261e@www.molletvalles.cat
CREATED;VALUE=DATE-TIME:20241107T110633Z
LAST-MODIFIED;VALUE=DATE-TIME:20241108T075738Z
URL:https://www.molletvalles.cat/es/actualidad/agenda/visita-los-parques-y
 -jardines-de-mollet-del-valles-la-rambla-unio-el-parque-de-los-colores-el-
 parque-de-can-borrell-y-sus-plazas-internas
END:VEVENT
END:VCALENDAR
