BEGIN:VCALENDAR
VERSION:2.0
PRODID:-//Plone.org//NONSGML plone.app.event//EN
X-WR-TIMEZONE:Europe/Madrid
BEGIN:VEVENT
SUMMARY:Visita los parques y jardines de Mollet del Vallès: Visita guiada
  al Parque de Can Mulà
DTSTART;VALUE=DATE:20231203
DTEND;VALUE=DATE:20231204
DTSTAMP;VALUE=DATE-TIME:20260419T144657Z
UID:1f31ab1db63141949980c5a4fb8e0e62@www.molletvalles.cat
CATEGORIES:Charlas
CREATED;VALUE=DATE-TIME:20231124T092650Z
LAST-MODIFIED;VALUE=DATE-TIME:20231124T130250Z
LOCATION:Parque de Can Mulà
URL:https://www.molletvalles.cat/es/actualidad/agenda/visita-los-parques-y
 -jardines-de-mollet-del-valles-visita-guiada-al-parque-de-can-mula
END:VEVENT
END:VCALENDAR
