BEGIN:VCALENDAR
VERSION:2.0
PRODID:-//Plone.org//NONSGML plone.app.event//EN
X-WR-TIMEZONE:Europe/Madrid
BEGIN:VEVENT
SUMMARY:Visita teatralizada a los escaparates de los títeres con motivo d
 e la MITMO
DTSTART;TZID=Europe/Madrid;VALUE=DATE-TIME:20250409T173000
DTEND;TZID=Europe/Madrid;VALUE=DATE-TIME:20250409T183000
DTSTAMP;VALUE=DATE-TIME:20260421T160416Z
UID:350697b55eab4e8a82c75681445bba61@www.molletvalles.cat
CATEGORIES:Actos diversos,Turismo
CREATED;VALUE=DATE-TIME:20250403T120003Z
LAST-MODIFIED;VALUE=DATE-TIME:20250404T061504Z
LOCATION:Plaza Cataluña
URL:https://www.molletvalles.cat/es/actualidad/agenda/visita-teatralizada-
 a-los-escaparates-de-los-titeres-con-motivo-de-la-mitmo
END:VEVENT
BEGIN:VTIMEZONE
TZID:Europe/Madrid
X-LIC-LOCATION:Europe/Madrid
BEGIN:DAYLIGHT
DTSTART;VALUE=DATE-TIME:20250330T030000
TZNAME:CEST
TZOFFSETFROM:+0100
TZOFFSETTO:+0200
END:DAYLIGHT
END:VTIMEZONE
END:VCALENDAR
