BEGIN:VCALENDAR
VERSION:2.0
PRODID:-//Plone.org//NONSGML plone.app.event//EN
X-WR-TIMEZONE:Europe/Madrid
BEGIN:VEVENT
SUMMARY:Noches  Gastronómicas: Taller de Batidos Saludables
DTSTART;VALUE=DATE:20231026
DTEND;VALUE=DATE:20231027
DTSTAMP;VALUE=DATE-TIME:20260421T135736Z
UID:456afecd3a6c4cdc9b98a3b6c60d52bb@www.molletvalles.cat
CATEGORIES:Juvenil
CREATED;VALUE=DATE-TIME:20230927T102921Z
DESCRIPTION:OTOÑO JOVEN 2023
LAST-MODIFIED;VALUE=DATE-TIME:20230928T073151Z
LOCATION:Terraza del Museo Abelló
URL:https://www.molletvalles.cat/es/actualidad/agenda/visperas-gastronomic
 as-taller-de-batidos-saludables
END:VEVENT
END:VCALENDAR
