BEGIN:VCALENDAR
VERSION:2.0
PRODID:-//Plone.org//NONSGML plone.app.event//EN
X-WR-TIMEZONE:Europe/Madrid
BEGIN:VEVENT
SUMMARY:Voces en femenino: Isabella Privitera
DTSTART;TZID=Europe/Madrid;VALUE=DATE-TIME:20240524T190000
DTEND;TZID=Europe/Madrid;VALUE=DATE-TIME:20240524T200000
DTSTAMP;VALUE=DATE-TIME:20260421T160548Z
UID:630c64725a264c3da24a891a7f65e831@www.molletvalles.cat
CATEGORIES:Música
CREATED;VALUE=DATE-TIME:20240212T091310Z
DESCRIPTION:ARTES Y ESCENA
LAST-MODIFIED;VALUE=DATE-TIME:20240227T085949Z
URL:https://www.molletvalles.cat/es/actualidad/agenda/voces-en-femenino-is
 abella-privitera
END:VEVENT
BEGIN:VTIMEZONE
TZID:Europe/Madrid
X-LIC-LOCATION:Europe/Madrid
BEGIN:DAYLIGHT
DTSTART;VALUE=DATE-TIME:20240331T030000
TZNAME:CEST
TZOFFSETFROM:+0100
TZOFFSETTO:+0200
END:DAYLIGHT
END:VTIMEZONE
END:VCALENDAR
