BEGIN:VCALENDAR
VERSION:2.0
PRODID:-//Plone.org//NONSGML plone.app.event//EN
X-WR-TIMEZONE:Europe/Madrid
BEGIN:VEVENT
SUMMARY:XLII Critérium del Vallès categoría Élite y Sub23
DTSTART;TZID=Europe/Madrid;VALUE=DATE-TIME:20230709T094500
DTEND;TZID=Europe/Madrid;VALUE=DATE-TIME:20230709T104500
DTSTAMP;VALUE=DATE-TIME:20260421T160548Z
UID:cc4e6248b90f422a8c1e16d2df93452a@www.molletvalles.cat
CATEGORIES:Deportes
CREATED;VALUE=DATE-TIME:20230613T110216Z
LAST-MODIFIED;VALUE=DATE-TIME:20230613T110247Z
LOCATION:Av. Libertad (salida)
URL:https://www.molletvalles.cat/es/actualidad/agenda/xlii-criterium-del-v
 alles-categoria-elite-y-sub23
END:VEVENT
BEGIN:VTIMEZONE
TZID:Europe/Madrid
X-LIC-LOCATION:Europe/Madrid
BEGIN:DAYLIGHT
DTSTART;VALUE=DATE-TIME:20230326T030000
TZNAME:CEST
TZOFFSETFROM:+0100
TZOFFSETTO:+0200
END:DAYLIGHT
END:VTIMEZONE
END:VCALENDAR
