BEGIN:VCALENDAR
VERSION:2.0
PRODID:-//Plone.org//NONSGML plone.app.event//EN
X-WR-TIMEZONE:Europe/Madrid
BEGIN:VEVENT
SUMMARY:XVI Cena Solidaria de Mollet con Cuba
DTSTART;TZID=Europe/Madrid;VALUE=DATE-TIME:20241018T210000
DTEND;TZID=Europe/Madrid;VALUE=DATE-TIME:20241018T220000
DTSTAMP;VALUE=DATE-TIME:20260421T135707Z
UID:c6ac50e4734d4d8982c000ed7ad38556@www.molletvalles.cat
CATEGORIES:Actos diversos
CREATED;VALUE=DATE-TIME:20241002T081411Z
LAST-MODIFIED;VALUE=DATE-TIME:20241003T071748Z
URL:https://www.molletvalles.cat/es/actualidad/agenda/xvi-cena-solidaria-d
 e-mollet-con-cuba
END:VEVENT
BEGIN:VTIMEZONE
TZID:Europe/Madrid
X-LIC-LOCATION:Europe/Madrid
BEGIN:DAYLIGHT
DTSTART;VALUE=DATE-TIME:20240331T030000
TZNAME:CEST
TZOFFSETFROM:+0100
TZOFFSETTO:+0200
END:DAYLIGHT
END:VTIMEZONE
END:VCALENDAR
