BEGIN:VCALENDAR
VERSION:2.0
PRODID:-//Plone.org//NONSGML plone.app.event//EN
X-WR-TIMEZONE:Europe/Madrid
BEGIN:VEVENT
SUMMARY:XXIX Encuentro de Gigantes de Sant Vicenç. Encuentro de Gigantes 
 Medievales. Plantada de Gigantes
DTSTART;TZID=Europe/Madrid;VALUE=DATE-TIME:20240121T100000
DTEND;TZID=Europe/Madrid;VALUE=DATE-TIME:20240121T110000
DTSTAMP;VALUE=DATE-TIME:20260419T170422Z
UID:8ef8dd2d2e7a409fa0c75a8818f7617a@www.molletvalles.cat
CATEGORIES:Fiestas populares
CREATED;VALUE=DATE-TIME:20240115T103241Z
DESCRIPTION:FIESTA MAYOR DE INVIERNO
LAST-MODIFIED;VALUE=DATE-TIME:20240115T103313Z
LOCATION:Plaza de Prat de la Riba
URL:https://www.molletvalles.cat/es/actualidad/agenda/xxix-encuentro-de-gi
 gantes-de-sant-vicenc-encuentro-de-gigantes-medievales-plantada-de-gigante
 s
END:VEVENT
BEGIN:VTIMEZONE
TZID:Europe/Madrid
X-LIC-LOCATION:Europe/Madrid
BEGIN:STANDARD
DTSTART;VALUE=DATE-TIME:20231029T020000
TZNAME:CET
TZOFFSETFROM:+0200
TZOFFSETTO:+0100
END:STANDARD
END:VTIMEZONE
END:VCALENDAR
