BEGIN:VCALENDAR
VERSION:2.0
PRODID:-//Plone.org//NONSGML plone.app.event//EN
X-WR-TIMEZONE:Europe/Madrid
BEGIN:VEVENT
SUMMARY:XXV Fiesta del Barrio de Riera Seca
DTSTART;VALUE=DATE:20250531
DTEND;VALUE=DATE:20250601
DTSTAMP;VALUE=DATE-TIME:20260421T140207Z
UID:c4bacf6b6c824aee91bd4696e54dd1df@www.molletvalles.cat
CATEGORIES:Fiestas populares
CREATED;VALUE=DATE-TIME:20250527T075803Z
LAST-MODIFIED;VALUE=DATE-TIME:20250527T120313Z
LOCATION:Pista Exterior Pabellón Municipal de Deportes Riera Seca
URL:https://www.molletvalles.cat/es/actualidad/agenda/xxv-fiesta-del-barri
 o-de-riera-seca
END:VEVENT
END:VCALENDAR
