BEGIN:VCALENDAR
VERSION:2.0
PRODID:-//Plone.org//NONSGML plone.app.event//EN
X-WR-TIMEZONE:Europe/Madrid
BEGIN:VEVENT
SUMMARY:XXVII Carrera Popular de San Vicente. 16º Memorial Jordi Solé Tu
 ra
DTSTART;TZID=Europe/Madrid;VALUE=DATE-TIME:20260201T103000
DTEND;TZID=Europe/Madrid;VALUE=DATE-TIME:20260201T113000
DTSTAMP;VALUE=DATE-TIME:20260419T162529Z
UID:f0c17c9812bb4225a2c08a09f8b963d0@www.molletvalles.cat
CATEGORIES:Deportes
CREATED;VALUE=DATE-TIME:20260119T103339Z
LAST-MODIFIED;VALUE=DATE-TIME:20260130T073934Z
LOCATION:Salida desde la Calle Granollers
URL:https://www.molletvalles.cat/es/actualidad/agenda/xxvii-carrera-popula
 r-de-san-vicente-16o-memorial-jordi-sole-tura
END:VEVENT
BEGIN:VTIMEZONE
TZID:Europe/Madrid
X-LIC-LOCATION:Europe/Madrid
BEGIN:STANDARD
DTSTART;VALUE=DATE-TIME:20251026T020000
TZNAME:CET
TZOFFSETFROM:+0200
TZOFFSETTO:+0100
END:STANDARD
END:VTIMEZONE
END:VCALENDAR
