BEGIN:VCALENDAR
VERSION:2.0
PRODID:-//Plone.org//NONSGML plone.app.event//EN
X-WR-TIMEZONE:Europe/Madrid
BEGIN:VEVENT
SUMMARY:XXX FIESTA DEL DEPORTE EN LA CALLE
DTSTART;VALUE=DATE:20240519
DTEND;VALUE=DATE:20240520
DTSTAMP;VALUE=DATE-TIME:20260419T204223Z
UID:5a3165be64904564bb690a42c919b012@www.molletvalles.cat
CATEGORIES:Deportes
CREATED;VALUE=DATE-TIME:20240214T135708Z
LAST-MODIFIED;VALUE=DATE-TIME:20240227T091018Z
LOCATION:Av. Libertad y Plaza Mayor
URL:https://www.molletvalles.cat/es/actualidad/agenda/xxx-fiesta-del-depor
 te-en-la-calle
END:VEVENT
END:VCALENDAR
