BEGIN:VCALENDAR
VERSION:2.0
PRODID:-//Plone.org//NONSGML plone.app.event//EN
X-WR-TIMEZONE:Europe/Madrid
BEGIN:VEVENT
SUMMARY:Y los viernes\, ¿qué?: Monólogo de Mariona Esplugues\, "Loca"
DTSTART;TZID=Europe/Madrid;VALUE=DATE-TIME:20260424T210000
DTEND;TZID=Europe/Madrid;VALUE=DATE-TIME:20260424T220000
DTSTAMP;VALUE=DATE-TIME:20260422T225942Z
UID:b79e8b16e13c42b487fbcc496a0d04a4@www.molletvalles.cat
CATEGORIES:Artes escénicas
CREATED;VALUE=DATE-TIME:20260422T122229Z
LAST-MODIFIED;VALUE=DATE-TIME:20260422T122321Z
URL:https://www.molletvalles.cat/es/actualidad/agenda/y-los-viernes-que-mo
 nologo-de-mariona-esplugues-loca
END:VEVENT
BEGIN:VTIMEZONE
TZID:Europe/Madrid
X-LIC-LOCATION:Europe/Madrid
BEGIN:DAYLIGHT
DTSTART;VALUE=DATE-TIME:20260329T030000
TZNAME:CEST
TZOFFSETFROM:+0100
TZOFFSETTO:+0200
END:DAYLIGHT
END:VTIMEZONE
END:VCALENDAR
