BEGIN:VCALENDAR
VERSION:2.0
PRODID:-//Plone.org//NONSGML plone.app.event//EN
X-WR-TIMEZONE:Europe/Madrid
BEGIN:VEVENT
SUMMARY:16ª edición de la Muestra Internacional de Títeres de Mollet
DTSTART;TZID=Europe/Madrid;VALUE=DATE-TIME:20230401T220000
DTEND;TZID=Europe/Madrid;VALUE=DATE-TIME:20230401T233000
DTSTAMP;VALUE=DATE-TIME:20260425T121737Z
UID:2247ebd49b3e49d6b0519bd99613f6f4@www.molletvalles.cat
CREATED;VALUE=DATE-TIME:20230412T105640Z
LAST-MODIFIED;VALUE=DATE-TIME:20230412T105643Z
LOCATION:CC Mercat Vell
URL:https://www.molletvalles.cat/es/el-ayuntamiento/la-alcaldesa/agenda/16
 a-edicion-de-la-muestra-internacional-de-titeres-de-mollet-1
END:VEVENT
BEGIN:VTIMEZONE
TZID:Europe/Madrid
X-LIC-LOCATION:Europe/Madrid
BEGIN:DAYLIGHT
DTSTART;VALUE=DATE-TIME:20230326T030000
TZNAME:CEST
TZOFFSETFROM:+0100
TZOFFSETTO:+0200
END:DAYLIGHT
END:VTIMEZONE
END:VCALENDAR
