BEGIN:VCALENDAR
VERSION:2.0
PRODID:-//Plone.org//NONSGML plone.app.event//EN
X-WR-TIMEZONE:Europe/Madrid
BEGIN:VEVENT
SUMMARY:20N\, cincuenta años después. Vivir en democracia
DTSTART;TZID=Europe/Madrid;VALUE=DATE-TIME:20251120T180000
DTEND;TZID=Europe/Madrid;VALUE=DATE-TIME:20251120T190000
DTSTAMP;VALUE=DATE-TIME:20260419T162139Z
UID:9f9d19abf69245f39f3994bb01edf02a@www.molletvalles.cat
CREATED;VALUE=DATE-TIME:20251114T085357Z
LAST-MODIFIED;VALUE=DATE-TIME:20251114T085404Z
LOCATION:Museo Abelló
URL:https://www.molletvalles.cat/es/el-ayuntamiento/la-alcaldesa/agenda/20
 n-cincuenta-anos-despues-vivir-en-democracia
END:VEVENT
BEGIN:VTIMEZONE
TZID:Europe/Madrid
X-LIC-LOCATION:Europe/Madrid
BEGIN:STANDARD
DTSTART;VALUE=DATE-TIME:20251026T020000
TZNAME:CET
TZOFFSETFROM:+0200
TZOFFSETTO:+0100
END:STANDARD
END:VTIMEZONE
END:VCALENDAR
