BEGIN:VCALENDAR
VERSION:2.0
PRODID:-//Plone.org//NONSGML plone.app.event//EN
X-WR-TIMEZONE:Europe/Madrid
BEGIN:VEVENT
SUMMARY:3a. Edición cata de Vinos en Mollet
DTSTART;TZID=Europe/Madrid;VALUE=DATE-TIME:20231117T170000
DTEND;TZID=Europe/Madrid;VALUE=DATE-TIME:20231117T180000
DTSTAMP;VALUE=DATE-TIME:20260421T140503Z
UID:1bfe15417a22455eadfce1a874fd8a07@www.molletvalles.cat
CREATED;VALUE=DATE-TIME:20231121T161003Z
LAST-MODIFIED;VALUE=DATE-TIME:20231121T161008Z
LOCATION:Rambla Balmes
URL:https://www.molletvalles.cat/es/el-ayuntamiento/la-alcaldesa/agenda/3a
 -edicion-cata-de-vinos-en-mollet-1
END:VEVENT
BEGIN:VTIMEZONE
TZID:Europe/Madrid
X-LIC-LOCATION:Europe/Madrid
BEGIN:STANDARD
DTSTART;VALUE=DATE-TIME:20231029T020000
TZNAME:CET
TZOFFSETFROM:+0200
TZOFFSETTO:+0100
END:STANDARD
END:VTIMEZONE
END:VCALENDAR
