BEGIN:VCALENDAR
VERSION:2.0
PRODID:-//Plone.org//NONSGML plone.app.event//EN
X-WR-TIMEZONE:Europe/Madrid
BEGIN:VEVENT
SUMMARY:3a. Edición cata de Vinos en Mollet
DTSTART;TZID=Europe/Madrid;VALUE=DATE-TIME:20231118T100000
DTEND;TZID=Europe/Madrid;VALUE=DATE-TIME:20231118T110000
DTSTAMP;VALUE=DATE-TIME:20260423T123140Z
UID:be86a624a09b4516ae339b929b6a9edf@www.molletvalles.cat
CREATED;VALUE=DATE-TIME:20231117T142129Z
LAST-MODIFIED;VALUE=DATE-TIME:20231117T142132Z
LOCATION:Ramblas Balmes
URL:https://www.molletvalles.cat/es/el-ayuntamiento/la-alcaldesa/agenda/3a
 -edicion-cata-de-vinos-en-mollet
END:VEVENT
BEGIN:VTIMEZONE
TZID:Europe/Madrid
X-LIC-LOCATION:Europe/Madrid
BEGIN:STANDARD
DTSTART;VALUE=DATE-TIME:20231029T020000
TZNAME:CET
TZOFFSETFROM:+0200
TZOFFSETTO:+0100
END:STANDARD
END:VTIMEZONE
END:VCALENDAR
