BEGIN:VCALENDAR
VERSION:2.0
PRODID:-//Plone.org//NONSGML plone.app.event//EN
X-WR-TIMEZONE:Europe/Madrid
BEGIN:VEVENT
SUMMARY:3a Feria de la cerveza artesana
DTSTART;TZID=Europe/Madrid;VALUE=DATE-TIME:20230506T100000
DTEND;TZID=Europe/Madrid;VALUE=DATE-TIME:20230506T110000
DTSTAMP;VALUE=DATE-TIME:20260421T114324Z
UID:66bf5f5217ab47ad82e619e43d17f3b5@www.molletvalles.cat
CREATED;VALUE=DATE-TIME:20230510T091157Z
LAST-MODIFIED;VALUE=DATE-TIME:20230510T091200Z
LOCATION:Parque de Can Mulà
URL:https://www.molletvalles.cat/es/el-ayuntamiento/la-alcaldesa/agenda/3a
 -feria-de-la-cerveza-artesana
END:VEVENT
BEGIN:VTIMEZONE
TZID:Europe/Madrid
X-LIC-LOCATION:Europe/Madrid
BEGIN:DAYLIGHT
DTSTART;VALUE=DATE-TIME:20230326T030000
TZNAME:CEST
TZOFFSETFROM:+0100
TZOFFSETTO:+0200
END:DAYLIGHT
END:VTIMEZONE
END:VCALENDAR
