BEGIN:VCALENDAR
VERSION:2.0
PRODID:-//Plone.org//NONSGML plone.app.event//EN
X-WR-TIMEZONE:Europe/Madrid
BEGIN:VEVENT
SUMMARY:50º Aniversario de la Agrupación de Industriales del Baix Vallè
 s
DTSTART;TZID=Europe/Madrid;VALUE=DATE-TIME:20240607T130000
DTEND;TZID=Europe/Madrid;VALUE=DATE-TIME:20240607T163000
DTSTAMP;VALUE=DATE-TIME:20260419T162135Z
UID:7b447f2b623342919c868222d41c89de@www.molletvalles.cat
CREATED;VALUE=DATE-TIME:20240606T163832Z
LAST-MODIFIED;VALUE=DATE-TIME:20240606T163835Z
LOCATION:Bodega de Can Roda
URL:https://www.molletvalles.cat/es/el-ayuntamiento/la-alcaldesa/agenda/50
 o-aniversario-de-la-agrupacion-de-industriales-del-baix-valles
END:VEVENT
BEGIN:VTIMEZONE
TZID:Europe/Madrid
X-LIC-LOCATION:Europe/Madrid
BEGIN:DAYLIGHT
DTSTART;VALUE=DATE-TIME:20240331T030000
TZNAME:CEST
TZOFFSETFROM:+0100
TZOFFSETTO:+0200
END:DAYLIGHT
END:VTIMEZONE
END:VCALENDAR
