BEGIN:VCALENDAR
VERSION:2.0
PRODID:-//Plone.org//NONSGML plone.app.event//EN
X-WR-TIMEZONE:Europe/Madrid
BEGIN:VEVENT
SUMMARY:50º Aniversario de la Petanca Mollet
DTSTART;TZID=Europe/Madrid;VALUE=DATE-TIME:20240615T093000
DTEND;TZID=Europe/Madrid;VALUE=DATE-TIME:20240615T103000
DTSTAMP;VALUE=DATE-TIME:20260421T160502Z
UID:281ea488ef9342cea2b0bf6ebcf30a6e@www.molletvalles.cat
CREATED;VALUE=DATE-TIME:20240620T115115Z
LAST-MODIFIED;VALUE=DATE-TIME:20240620T115119Z
LOCATION:Parque de Can Mulà
URL:https://www.molletvalles.cat/es/el-ayuntamiento/la-alcaldesa/agenda/50
 o-aniversario-de-la-petanca-mollet
END:VEVENT
BEGIN:VTIMEZONE
TZID:Europe/Madrid
X-LIC-LOCATION:Europe/Madrid
BEGIN:DAYLIGHT
DTSTART;VALUE=DATE-TIME:20240331T030000
TZNAME:CEST
TZOFFSETFROM:+0100
TZOFFSETTO:+0200
END:DAYLIGHT
END:VTIMEZONE
END:VCALENDAR
