BEGIN:VCALENDAR
VERSION:2.0
PRODID:-//Plone.org//NONSGML plone.app.event//EN
X-WR-TIMEZONE:Europe/Madrid
BEGIN:VEVENT
SUMMARY:Actividades y actos de Fiesta Mayor
DTSTART;TZID=Europe/Madrid;VALUE=DATE-TIME:20230818T170000
DTEND;TZID=Europe/Madrid;VALUE=DATE-TIME:20230818T230000
DTSTAMP;VALUE=DATE-TIME:20260421T160947Z
UID:b329e56155e04a88957553fd11eab103@www.molletvalles.cat
CREATED;VALUE=DATE-TIME:20230818T105755Z
LAST-MODIFIED;VALUE=DATE-TIME:20230818T105759Z
LOCATION:Mollet del Vallès
URL:https://www.molletvalles.cat/es/el-ayuntamiento/la-alcaldesa/agenda/ac
 tividades-y-actos-de-fiesta-mayor-1
END:VEVENT
BEGIN:VTIMEZONE
TZID:Europe/Madrid
X-LIC-LOCATION:Europe/Madrid
BEGIN:DAYLIGHT
DTSTART;VALUE=DATE-TIME:20230326T030000
TZNAME:CEST
TZOFFSETFROM:+0100
TZOFFSETTO:+0200
END:DAYLIGHT
END:VTIMEZONE
END:VCALENDAR
