BEGIN:VCALENDAR
VERSION:2.0
PRODID:-//Plone.org//NONSGML plone.app.event//EN
X-WR-TIMEZONE:Europe/Madrid
BEGIN:VEVENT
SUMMARY:Acto central 20 aniversario Sindic personer
DTSTART;TZID=Europe/Madrid;VALUE=DATE-TIME:20231025T190000
DTEND;TZID=Europe/Madrid;VALUE=DATE-TIME:20231025T203000
DTSTAMP;VALUE=DATE-TIME:20260421T160351Z
UID:8201d6d82fbb456d9a742f6bcfda85f7@www.molletvalles.cat
CREATED;VALUE=DATE-TIME:20231102T111244Z
LAST-MODIFIED;VALUE=DATE-TIME:20231102T111249Z
LOCATION:Ayuntamiento de Mollet del Vallès
URL:https://www.molletvalles.cat/es/el-ayuntamiento/la-alcaldesa/agenda/ac
 to-central-20-aniversario-sindic-personer
END:VEVENT
BEGIN:VTIMEZONE
TZID:Europe/Madrid
X-LIC-LOCATION:Europe/Madrid
BEGIN:DAYLIGHT
DTSTART;VALUE=DATE-TIME:20230326T030000
TZNAME:CEST
TZOFFSETFROM:+0100
TZOFFSETTO:+0200
END:DAYLIGHT
END:VTIMEZONE
END:VCALENDAR
