BEGIN:VCALENDAR
VERSION:2.0
PRODID:-//Plone.org//NONSGML plone.app.event//EN
X-WR-TIMEZONE:Europe/Madrid
BEGIN:VEVENT
SUMMARY:Acto de celebración del 10 aniversario de la Residencia La Vinyot
 a
DTSTART;TZID=Europe/Madrid;VALUE=DATE-TIME:20220711T111500
DTEND;TZID=Europe/Madrid;VALUE=DATE-TIME:20220711T132000
DTSTAMP;VALUE=DATE-TIME:20260419T162142Z
UID:c11e3de6588546749625de8a39750df9@www.molletvalles.cat
CREATED;VALUE=DATE-TIME:20230203T130642Z
LAST-MODIFIED;VALUE=DATE-TIME:20230203T130646Z
LOCATION:Residencia La Vinyota - C. Can Flequer\, 44\, Mollet
URL:https://www.molletvalles.cat/es/el-ayuntamiento/la-alcaldesa/agenda/ac
 to-de-celebracion-del-10-aniversario-de-la-residencia-la-vinyota
END:VEVENT
BEGIN:VTIMEZONE
TZID:Europe/Madrid
X-LIC-LOCATION:Europe/Madrid
BEGIN:DAYLIGHT
DTSTART;VALUE=DATE-TIME:20220327T030000
TZNAME:CEST
TZOFFSETFROM:+0100
TZOFFSETTO:+0200
END:DAYLIGHT
END:VTIMEZONE
END:VCALENDAR
