BEGIN:VCALENDAR
VERSION:2.0
PRODID:-//Plone.org//NONSGML plone.app.event//EN
X-WR-TIMEZONE:Europe/Madrid
BEGIN:VEVENT
SUMMARY:Acto de presentación del estudio de las ciudades hermanadas
DTSTART;TZID=Europe/Madrid;VALUE=DATE-TIME:20230330T180000
DTEND;TZID=Europe/Madrid;VALUE=DATE-TIME:20230330T190000
DTSTAMP;VALUE=DATE-TIME:20260421T114336Z
UID:33deed9279494f87b8237210f0ad495c@www.molletvalles.cat
CREATED;VALUE=DATE-TIME:20230412T104124Z
LAST-MODIFIED;VALUE=DATE-TIME:20230412T104129Z
LOCATION:Ayuntamiento de Mollet del Vallès
URL:https://www.molletvalles.cat/es/el-ayuntamiento/la-alcaldesa/agenda/ac
 to-de-presentacion-del-estudio-de-las-ciudades-hermanadas
END:VEVENT
BEGIN:VTIMEZONE
TZID:Europe/Madrid
X-LIC-LOCATION:Europe/Madrid
BEGIN:DAYLIGHT
DTSTART;VALUE=DATE-TIME:20230326T030000
TZNAME:CEST
TZOFFSETFROM:+0100
TZOFFSETTO:+0200
END:DAYLIGHT
END:VTIMEZONE
END:VCALENDAR
