BEGIN:VCALENDAR
VERSION:2.0
PRODID:-//Plone.org//NONSGML plone.app.event//EN
X-WR-TIMEZONE:Europe/Madrid
BEGIN:VEVENT
SUMMARY:Alcaldesa En Els Barris - Lourdes
DTSTART;TZID=Europe/Madrid;VALUE=DATE-TIME:20240710T100000
DTEND;TZID=Europe/Madrid;VALUE=DATE-TIME:20240710T180000
DTSTAMP;VALUE=DATE-TIME:20260421T160415Z
UID:6eeefe4a7f974e268e343a4953df3060@www.molletvalles.cat
CREATED;VALUE=DATE-TIME:20240719T104122Z
LAST-MODIFIED;VALUE=DATE-TIME:20240719T104124Z
LOCATION:Barrio de Lourdes
URL:https://www.molletvalles.cat/es/el-ayuntamiento/la-alcaldesa/agenda/al
 caldesa-en-els-barris-lourdes
END:VEVENT
BEGIN:VTIMEZONE
TZID:Europe/Madrid
X-LIC-LOCATION:Europe/Madrid
BEGIN:DAYLIGHT
DTSTART;VALUE=DATE-TIME:20240331T030000
TZNAME:CEST
TZOFFSETFROM:+0100
TZOFFSETTO:+0200
END:DAYLIGHT
END:VTIMEZONE
END:VCALENDAR
