BEGIN:VCALENDAR
VERSION:2.0
PRODID:-//Plone.org//NONSGML plone.app.event//EN
X-WR-TIMEZONE:Europe/Madrid
BEGIN:VEVENT
SUMMARY:Animación infantil Balambambú Remullat - Cía. Peina el Gato\, c
 on funcionamiento del arco de agua
DTSTART;TZID=Europe/Madrid;VALUE=DATE-TIME:20240819T120000
DTEND;TZID=Europe/Madrid;VALUE=DATE-TIME:20240819T130000
DTSTAMP;VALUE=DATE-TIME:20260419T221640Z
UID:a25556dd673f4f5fa4969a60c332c7fc@www.molletvalles.cat
CREATED;VALUE=DATE-TIME:20240816T122424Z
LAST-MODIFIED;VALUE=DATE-TIME:20240816T122440Z
LOCATION:Parque de Les Pruneres
URL:https://www.molletvalles.cat/es/el-ayuntamiento/la-alcaldesa/agenda/an
 imacion-infantil-balambambu-remullat-cia-peina-el-gato-con-funcionamiento-
 del-arco-de-agua
END:VEVENT
BEGIN:VTIMEZONE
TZID:Europe/Madrid
X-LIC-LOCATION:Europe/Madrid
BEGIN:DAYLIGHT
DTSTART;VALUE=DATE-TIME:20240331T030000
TZNAME:CEST
TZOFFSETFROM:+0100
TZOFFSETTO:+0200
END:DAYLIGHT
END:VTIMEZONE
END:VCALENDAR
