BEGIN:VCALENDAR
VERSION:2.0
PRODID:-//Plone.org//NONSGML plone.app.event//EN
X-WR-TIMEZONE:Europe/Madrid
BEGIN:VEVENT
SUMMARY:Asistencia inauguración de entidad
DTSTART;TZID=Europe/Madrid;VALUE=DATE-TIME:20250326T193000
DTEND;TZID=Europe/Madrid;VALUE=DATE-TIME:20250326T203000
DTSTAMP;VALUE=DATE-TIME:20260421T160544Z
UID:78fd03ac9e1b409a850321234d607b8f@www.molletvalles.cat
CREATED;VALUE=DATE-TIME:20250326T091216Z
LAST-MODIFIED;VALUE=DATE-TIME:20250326T091240Z
LOCATION:Mollet del Vallès
URL:https://www.molletvalles.cat/es/el-ayuntamiento/la-alcaldesa/agenda/as
 istencia-inauguracion-de-entidad
END:VEVENT
BEGIN:VTIMEZONE
TZID:Europe/Madrid
X-LIC-LOCATION:Europe/Madrid
BEGIN:STANDARD
DTSTART;VALUE=DATE-TIME:20241027T020000
TZNAME:CET
TZOFFSETFROM:+0200
TZOFFSETTO:+0100
END:STANDARD
END:VTIMEZONE
END:VCALENDAR
