BEGIN:VCALENDAR
VERSION:2.0
PRODID:-//Plone.org//NONSGML plone.app.event//EN
X-WR-TIMEZONE:Europe/Madrid
BEGIN:VEVENT
SUMMARY:Atención a los medios
DTSTART;TZID=Europe/Madrid;VALUE=DATE-TIME:20240711T090000
DTEND;TZID=Europe/Madrid;VALUE=DATE-TIME:20240711T100000
DTSTAMP;VALUE=DATE-TIME:20260421T140543Z
UID:fa2b2b5a4be144e7ba3f05f202de3176@www.molletvalles.cat
CREATED;VALUE=DATE-TIME:20240719T083022Z
LAST-MODIFIED;VALUE=DATE-TIME:20240719T083025Z
LOCATION:Ayuntamiento de Mollet del Vallès
URL:https://www.molletvalles.cat/es/el-ayuntamiento/la-alcaldesa/agenda/at
 encion-a-los-medios-12
END:VEVENT
BEGIN:VTIMEZONE
TZID:Europe/Madrid
X-LIC-LOCATION:Europe/Madrid
BEGIN:DAYLIGHT
DTSTART;VALUE=DATE-TIME:20240331T030000
TZNAME:CEST
TZOFFSETFROM:+0100
TZOFFSETTO:+0200
END:DAYLIGHT
END:VTIMEZONE
END:VCALENDAR
