BEGIN:VCALENDAR
VERSION:2.0
PRODID:-//Plone.org//NONSGML plone.app.event//EN
X-WR-TIMEZONE:Europe/Madrid
BEGIN:VEVENT
SUMMARY:Acto  BECAS DEPORTIVAS 2025
DTSTART;TZID=Europe/Madrid;VALUE=DATE-TIME:20260428T190000
DTEND;TZID=Europe/Madrid;VALUE=DATE-TIME:20260428T200000
DTSTAMP;VALUE=DATE-TIME:20260423T172943Z
UID:92b088985c504f298e6897a30674c336@www.molletvalles.cat
CREATED;VALUE=DATE-TIME:20260423T083537Z
LAST-MODIFIED;VALUE=DATE-TIME:20260423T083639Z
LOCATION:Ayuntamiento Mollet del Vallès
URL:https://www.molletvalles.cat/es/el-ayuntamiento/la-alcaldesa/agenda/au
 to-becas-deportivas-2025
END:VEVENT
BEGIN:VTIMEZONE
TZID:Europe/Madrid
X-LIC-LOCATION:Europe/Madrid
BEGIN:DAYLIGHT
DTSTART;VALUE=DATE-TIME:20260329T030000
TZNAME:CEST
TZOFFSETFROM:+0100
TZOFFSETTO:+0200
END:DAYLIGHT
END:VTIMEZONE
END:VCALENDAR
