BEGIN:VCALENDAR
VERSION:2.0
PRODID:-//Plone.org//NONSGML plone.app.event//EN
X-WR-TIMEZONE:Europe/Madrid
BEGIN:VEVENT
SUMMARY:Baile de fin de fiesta con la Orquesta Internacional Maravella
DTSTART;TZID=Europe/Madrid;VALUE=DATE-TIME:20240820T230000
DTEND;TZID=Europe/Madrid;VALUE=DATE-TIME:20240821T000000
DTSTAMP;VALUE=DATE-TIME:20260425T121841Z
UID:72a10bf8b4294f7f87bc9c088e9e3a09@www.molletvalles.cat
CREATED;VALUE=DATE-TIME:20240816T124330Z
LAST-MODIFIED;VALUE=DATE-TIME:20240816T124332Z
LOCATION:Carpa
URL:https://www.molletvalles.cat/es/el-ayuntamiento/la-alcaldesa/agenda/ba
 ile-de-fin-de-fiesta-con-la-orquesta-internacional-maravella
END:VEVENT
BEGIN:VTIMEZONE
TZID:Europe/Madrid
X-LIC-LOCATION:Europe/Madrid
BEGIN:DAYLIGHT
DTSTART;VALUE=DATE-TIME:20240331T030000
TZNAME:CEST
TZOFFSETFROM:+0100
TZOFFSETTO:+0200
END:DAYLIGHT
END:VTIMEZONE
END:VCALENDAR
