BEGIN:VCALENDAR
VERSION:2.0
PRODID:-//Plone.org//NONSGML plone.app.event//EN
X-WR-TIMEZONE:Europe/Madrid
BEGIN:VEVENT
SUMMARY:Baile de Sardanas a cargo de la Cobla Mediterrània
DTSTART;TZID=Europe/Madrid;VALUE=DATE-TIME:20260423T183000
DTEND;TZID=Europe/Madrid;VALUE=DATE-TIME:20260423T190000
DTSTAMP;VALUE=DATE-TIME:20260425T140145Z
UID:8907cb4adfbd4bf494cf3c48d30ab63e@www.molletvalles.cat
CREATED;VALUE=DATE-TIME:20260423T080717Z
LAST-MODIFIED;VALUE=DATE-TIME:20260423T080723Z
LOCATION:Parque de les Pruneres
URL:https://www.molletvalles.cat/es/el-ayuntamiento/la-alcaldesa/agenda/ba
 ile-de-sardanas-a-cargo-de-la-cobla-mediterrania
END:VEVENT
BEGIN:VTIMEZONE
TZID:Europe/Madrid
X-LIC-LOCATION:Europe/Madrid
BEGIN:DAYLIGHT
DTSTART;VALUE=DATE-TIME:20260329T030000
TZNAME:CEST
TZOFFSETFROM:+0100
TZOFFSETTO:+0200
END:DAYLIGHT
END:VTIMEZONE
END:VCALENDAR
