BEGIN:VCALENDAR
VERSION:2.0
PRODID:-//Plone.org//NONSGML plone.app.event//EN
X-WR-TIMEZONE:Europe/Madrid
BEGIN:VEVENT
SUMMARY:Baile y audición de sardanas (Tradicions i Costums)
DTSTART;TZID=Europe/Madrid;VALUE=DATE-TIME:20220918T180000
DTEND;TZID=Europe/Madrid;VALUE=DATE-TIME:20220918T190000
DTSTAMP;VALUE=DATE-TIME:20260421T160419Z
UID:759f0aee208f4c80959a07e741528f26@www.molletvalles.cat
CREATED;VALUE=DATE-TIME:20230202T100109Z
LAST-MODIFIED;VALUE=DATE-TIME:20230202T100135Z
LOCATION:Parque de Les Pruneres
URL:https://www.molletvalles.cat/es/el-ayuntamiento/la-alcaldesa/agenda/ba
 ile-y-audicion-de-sardanas-tradiciones-y-costumbres
END:VEVENT
BEGIN:VTIMEZONE
TZID:Europe/Madrid
X-LIC-LOCATION:Europe/Madrid
BEGIN:DAYLIGHT
DTSTART;VALUE=DATE-TIME:20220327T030000
TZNAME:CEST
TZOFFSETFROM:+0100
TZOFFSETTO:+0200
END:DAYLIGHT
END:VTIMEZONE
END:VCALENDAR
