BEGIN:VCALENDAR
VERSION:2.0
PRODID:-//Plone.org//NONSGML plone.app.event//EN
X-WR-TIMEZONE:Europe/Madrid
BEGIN:VEVENT
SUMMARY:Caga Tió en Can Pantiquet
DTSTART;TZID=Europe/Madrid;VALUE=DATE-TIME:20231223T113000
DTEND;TZID=Europe/Madrid;VALUE=DATE-TIME:20231223T133000
DTSTAMP;VALUE=DATE-TIME:20260425T130617Z
UID:9493581060f945e4abb4973b0e5bb50b@www.molletvalles.cat
CREATED;VALUE=DATE-TIME:20231221T140002Z
LAST-MODIFIED;VALUE=DATE-TIME:20231221T140005Z
LOCATION:Av. Gaudí\, 16
URL:https://www.molletvalles.cat/es/el-ayuntamiento/la-alcaldesa/agenda/ca
 ga-tio-en-can-pantiquet
END:VEVENT
BEGIN:VTIMEZONE
TZID:Europe/Madrid
X-LIC-LOCATION:Europe/Madrid
BEGIN:STANDARD
DTSTART;VALUE=DATE-TIME:20231029T020000
TZNAME:CET
TZOFFSETFROM:+0200
TZOFFSETTO:+0100
END:STANDARD
END:VTIMEZONE
END:VCALENDAR
