BEGIN:VCALENDAR
VERSION:2.0
PRODID:-//Plone.org//NONSGML plone.app.event//EN
X-WR-TIMEZONE:Europe/Madrid
BEGIN:VEVENT
SUMMARY:Caminata Gallecs - Feria Artesanos
DTSTART;TZID=Europe/Madrid;VALUE=DATE-TIME:20230520T170000
DTEND;TZID=Europe/Madrid;VALUE=DATE-TIME:20230520T180000
DTSTAMP;VALUE=DATE-TIME:20260425T121810Z
UID:7a8d72e38e0b4698abd2290ed1358c37@www.molletvalles.cat
CREATED;VALUE=DATE-TIME:20230517T112037Z
LAST-MODIFIED;VALUE=DATE-TIME:20230517T112040Z
LOCATION:Plaza Artesanía
URL:https://www.molletvalles.cat/es/el-ayuntamiento/la-alcaldesa/agenda/ca
 minata-gallecs-feria-artesanos
END:VEVENT
BEGIN:VTIMEZONE
TZID:Europe/Madrid
X-LIC-LOCATION:Europe/Madrid
BEGIN:DAYLIGHT
DTSTART;VALUE=DATE-TIME:20230326T030000
TZNAME:CEST
TZOFFSETFROM:+0100
TZOFFSETTO:+0200
END:DAYLIGHT
END:VTIMEZONE
END:VCALENDAR
