BEGIN:VCALENDAR
VERSION:2.0
PRODID:-//Plone.org//NONSGML plone.app.event//EN
X-WR-TIMEZONE:Europe/Madrid
BEGIN:VEVENT
SUMMARY:Carrera solidaria “Muévete por la esclerosis Múltiple”
DTSTART;TZID=Europe/Madrid;VALUE=DATE-TIME:20250329T120000
DTEND;TZID=Europe/Madrid;VALUE=DATE-TIME:20250329T133000
DTSTAMP;VALUE=DATE-TIME:20260425T121744Z
UID:3fecc4332754427e9233c3e98cd529c7@www.molletvalles.cat
CREATED;VALUE=DATE-TIME:20250326T092748Z
LAST-MODIFIED;VALUE=DATE-TIME:20250326T092752Z
LOCATION:Circuito de Barcelona-Catalunya
URL:https://www.molletvalles.cat/es/el-ayuntamiento/la-alcaldesa/agenda/ca
 rrera-solidaria-201cmuevete-por-la-esclerosis-multiple201d
END:VEVENT
BEGIN:VTIMEZONE
TZID:Europe/Madrid
X-LIC-LOCATION:Europe/Madrid
BEGIN:STANDARD
DTSTART;VALUE=DATE-TIME:20241027T020000
TZNAME:CET
TZOFFSETFROM:+0200
TZOFFSETTO:+0100
END:STANDARD
END:VTIMEZONE
END:VCALENDAR
