BEGIN:VCALENDAR
VERSION:2.0
PRODID:-//Plone.org//NONSGML plone.app.event//EN
X-WR-TIMEZONE:Europe/Madrid
BEGIN:VEVENT
SUMMARY:Cavalgata de Carnaval y Juicio de Carnaval
DTSTART;TZID=Europe/Madrid;VALUE=DATE-TIME:20240211T170000
DTEND;TZID=Europe/Madrid;VALUE=DATE-TIME:20240211T180000
DTSTAMP;VALUE=DATE-TIME:20260421T140143Z
UID:93524288f1b14358a92e7e709f14be31@www.molletvalles.cat
CREATED;VALUE=DATE-TIME:20240209T123804Z
LAST-MODIFIED;VALUE=DATE-TIME:20240209T123806Z
LOCATION:Salida Av. Gaudí\, av. Jaime I\, av. Brugos y Pl. Pau Casals
URL:https://www.molletvalles.cat/es/el-ayuntamiento/la-alcaldesa/agenda/ca
 valgata-de-carnaval-y-juicio-de-carnaval
END:VEVENT
BEGIN:VTIMEZONE
TZID:Europe/Madrid
X-LIC-LOCATION:Europe/Madrid
BEGIN:STANDARD
DTSTART;VALUE=DATE-TIME:20231029T020000
TZNAME:CET
TZOFFSETFROM:+0200
TZOFFSETTO:+0100
END:STANDARD
END:VTIMEZONE
END:VCALENDAR
