BEGIN:VCALENDAR
VERSION:2.0
PRODID:-//Plone.org//NONSGML plone.app.event//EN
X-WR-TIMEZONE:Europe/Madrid
BEGIN:VEVENT
SUMMARY:Cinco minutos de silencio por el primer aniversario de la guerra d
 e Ucrania.
DTSTART;TZID=Europe/Madrid;VALUE=DATE-TIME:20230224T120000
DTEND;TZID=Europe/Madrid;VALUE=DATE-TIME:20230224T121000
DTSTAMP;VALUE=DATE-TIME:20260419T162141Z
UID:cfdf8477b73d48efb0b4a5156f104e6a@www.molletvalles.cat
CREATED;VALUE=DATE-TIME:20230223T105759Z
LAST-MODIFIED;VALUE=DATE-TIME:20230223T105803Z
LOCATION:Plaza Mayor\, 1
URL:https://www.molletvalles.cat/es/el-ayuntamiento/la-alcaldesa/agenda/ci
 nco-minutos-de-silencio-por-el-primer-aniversario-de-la-guerra-de-ucrania
END:VEVENT
BEGIN:VTIMEZONE
TZID:Europe/Madrid
X-LIC-LOCATION:Europe/Madrid
BEGIN:STANDARD
DTSTART;VALUE=DATE-TIME:20221030T020000
TZNAME:CET
TZOFFSETFROM:+0200
TZOFFSETTO:+0100
END:STANDARD
END:VTIMEZONE
END:VCALENDAR
