BEGIN:VCALENDAR
VERSION:2.0
PRODID:-//Plone.org//NONSGML plone.app.event//EN
X-WR-TIMEZONE:Europe/Madrid
BEGIN:VEVENT
SUMMARY:Comisión Ejecutiva Consorcio Besòs Tordera
DTSTART;TZID=Europe/Madrid;VALUE=DATE-TIME:20260428T091500
DTEND;TZID=Europe/Madrid;VALUE=DATE-TIME:20260428T094500
DTSTAMP;VALUE=DATE-TIME:20260423T172923Z
UID:749a3b2c600d4891942b699a9ce095da@www.molletvalles.cat
CREATED;VALUE=DATE-TIME:20260423T083206Z
LAST-MODIFIED;VALUE=DATE-TIME:20260423T083231Z
LOCATION:Telemática
URL:https://www.molletvalles.cat/es/el-ayuntamiento/la-alcaldesa/agenda/co
 mision-ejecutiva-consorcio-besos-tordera-49
END:VEVENT
BEGIN:VTIMEZONE
TZID:Europe/Madrid
X-LIC-LOCATION:Europe/Madrid
BEGIN:DAYLIGHT
DTSTART;VALUE=DATE-TIME:20260329T030000
TZNAME:CEST
TZOFFSETFROM:+0100
TZOFFSETTO:+0200
END:DAYLIGHT
END:VTIMEZONE
END:VCALENDAR
